BEGIN:VCALENDAR
VERSION:2.0
PRODID:-//Blue Dahlia Wooden Florals - ECPv6.15.20//NONSGML v1.0//EN
CALSCALE:GREGORIAN
METHOD:PUBLISH
X-WR-CALNAME:Blue Dahlia Wooden Florals
X-ORIGINAL-URL:https://bluedahliawoodenflorals.com
X-WR-CALDESC:Events for Blue Dahlia Wooden Florals
REFRESH-INTERVAL;VALUE=DURATION:PT1H
X-Robots-Tag:noindex
X-PUBLISHED-TTL:PT1H
BEGIN:VTIMEZONE
TZID:UTC
BEGIN:STANDARD
TZOFFSETFROM:+0000
TZOFFSETTO:+0000
TZNAME:UTC
DTSTART:20220101T000000
END:STANDARD
END:VTIMEZONE
BEGIN:VEVENT
DTSTART;TZID=UTC:20230410T170000
DTEND;TZID=UTC:20230410T190000
DTSTAMP:20260420T015914
CREATED:20230317T202900Z
LAST-MODIFIED:20230320T231940Z
UID:5679-1681146000-1681153200@bluedahliawoodenflorals.com
SUMMARY:Make & Take @ Belleflower Brewing Company
DESCRIPTION:Blue Dahlia is partnering with Belleflower Brewing Company to host a Make and Take on April 10\, 2023 from 5- 7pm. \nDuring this event you’ll make a mason jar wood flower bouquet of YOUR VERY OWN DESIGN!  We’ll be bringing flowers already painted and stemmed in these 2 color palettes.  You’ll choose 6 flowers for your bouquet\, either in the same color palette or mix and match.  You can get as creative as you want.  We will also be bringing coordinating greenery and accent pieces so that you can complete your bouquet. \nKatie\, from Blue Dahlia will be on hand to give a tutorial and any design assistance that you request and will help to finalize your bouquet at the very end. \nEach ticket includes the following: \n\n6 wood flowers for your bouquet\, choose from 2 different color palettes (feel free to get creative\, mix and match!)\nCoordinating greenery and accents of your choosing\nMason jar and gem stones\n1 beer from Belleflower Brewing\n\nThis is a ticketed event that is limited to 15 participants \nPURCHASE TICKETS \n*Please note that events are not eligible for coupons\, but ARE eligible for gift cards!
URL:https://bluedahliawoodenflorals.com/event/make-take-belleflower-brewing-company/
LOCATION:Belleflower Brewing Company\, 66 Cove St\, Portland\, ME\, 04101\, United States
ATTACH;FMTTYPE=image/jpeg:https://bluedahliawoodenflorals.com/wp-content/uploads/2023/03/Belleflower-Make-and-Take-1.jpg
END:VEVENT
END:VCALENDAR