BEGIN:VCALENDAR
VERSION:2.0
PRODID:-//Blue Dahlia Wooden Florals - ECPv6.15.20//NONSGML v1.0//EN
CALSCALE:GREGORIAN
METHOD:PUBLISH
X-WR-CALNAME:Blue Dahlia Wooden Florals
X-ORIGINAL-URL:https://bluedahliawoodenflorals.com
X-WR-CALDESC:Events for Blue Dahlia Wooden Florals
REFRESH-INTERVAL;VALUE=DURATION:PT1H
X-Robots-Tag:noindex
X-PUBLISHED-TTL:PT1H
BEGIN:VTIMEZONE
TZID:UTC
BEGIN:STANDARD
TZOFFSETFROM:+0000
TZOFFSETTO:+0000
TZNAME:UTC
DTSTART:20220101T000000
END:STANDARD
END:VTIMEZONE
BEGIN:VEVENT
DTSTART;TZID=UTC:20230624T090000
DTEND;TZID=UTC:20230624T150000
DTSTAMP:20260419T222839
CREATED:20230317T204349Z
LAST-MODIFIED:20230324T212008Z
UID:5693-1687597200-1687618800@bluedahliawoodenflorals.com
SUMMARY:Saco Sidewalk Arts Festival
DESCRIPTION:The Saco Main Street Sidewalk Arts Festival Committee invites you to attend the 52nd Annual Saco Main Street Sidewalk Arts Festival on June 24\, 2023 and located in the heart of beautiful historic downtown Saco\, Maine. \nOver a thousand people attend this annual event where more than 75 artists and craftsmen display a rich variety of artwork\, photography\, and sculpture along with food and drink. \nWe are looking forward to a great summer and enhancing our traditions of this festival with some new ideas increasing the vitality and vibrancy of this event. \nLocation: Throughout downtown Saco\, Maine. \nFor more information\, please visit: https://sacomainstreet.wixsite.com/arts/festival-info
URL:https://bluedahliawoodenflorals.com/event/saco-maine-sidewalk-arts-festival/
LOCATION:Saco Sidewalk Arts Festival\, Saco\, ME\, 04072\, United States
END:VEVENT
END:VCALENDAR