BEGIN:VCALENDAR
VERSION:2.0
PRODID:-//Blue Dahlia Wooden Florals - ECPv6.15.20//NONSGML v1.0//EN
CALSCALE:GREGORIAN
METHOD:PUBLISH
X-ORIGINAL-URL:https://bluedahliawoodenflorals.com
X-WR-CALDESC:Events for Blue Dahlia Wooden Florals
REFRESH-INTERVAL;VALUE=DURATION:PT1H
X-Robots-Tag:noindex
X-PUBLISHED-TTL:PT1H
BEGIN:VTIMEZONE
TZID:UTC
BEGIN:STANDARD
TZOFFSETFROM:+0000
TZOFFSETTO:+0000
TZNAME:UTC
DTSTART:20220101T000000
END:STANDARD
END:VTIMEZONE
BEGIN:VEVENT
DTSTART;TZID=UTC:20231022T100000
DTEND;TZID=UTC:20231022T150000
DTSTAMP:20260419T160936
CREATED:20231013T165201Z
LAST-MODIFIED:20231013T165201Z
UID:6679-1697968800-1697986800@bluedahliawoodenflorals.com
SUMMARY:Maker's Market at Thompson's Point
DESCRIPTION:The Maker’s Market is an ode to local Maine artisans\, craftspeople\, artists\, creators and farmers. It combines the best that Maine has to offer\, a spirit of ingenuity and a deeply imbedded culture of community and togetherness. \nOh\, did we mention there’s a bar? Grab your friends\, snag a mimosa\, and get your holiday shopping done early and often! \nEntry\, free!
URL:https://bluedahliawoodenflorals.com/event/makers-market-at-thompsons-point/
LOCATION:Maker’s Marker at Thompsons Point\, 207 Thompson’s Point Road\, Portland\, ME\, 04102\, United States
ATTACH;FMTTYPE=image/jpeg:https://bluedahliawoodenflorals.com/wp-content/uploads/2023/10/Makers-Market-10.22.jpg
END:VEVENT
END:VCALENDAR