BEGIN:VCALENDAR
VERSION:2.0
PRODID:-//Blue Dahlia Wooden Florals - ECPv6.15.20//NONSGML v1.0//EN
CALSCALE:GREGORIAN
METHOD:PUBLISH
X-ORIGINAL-URL:https://bluedahliawoodenflorals.com
X-WR-CALDESC:Events for Blue Dahlia Wooden Florals
REFRESH-INTERVAL;VALUE=DURATION:PT1H
X-Robots-Tag:noindex
X-PUBLISHED-TTL:PT1H
BEGIN:VTIMEZONE
TZID:UTC
BEGIN:STANDARD
TZOFFSETFROM:+0000
TZOFFSETTO:+0000
TZNAME:UTC
DTSTART:20220101T000000
END:STANDARD
END:VTIMEZONE
BEGIN:VEVENT
DTSTART;TZID=UTC:20231119T120000
DTEND;TZID=UTC:20231119T150000
DTSTAMP:20260419T143612
CREATED:20231013T165937Z
LAST-MODIFIED:20231013T170016Z
UID:6683-1700395200-1700406000@bluedahliawoodenflorals.com
SUMMARY:Bridal Show @ Nonantum Resort
DESCRIPTION:Set on the waterfront in beautiful Kennebunkport\, Maine\, the Nonantum Autumn Wedding Show is THE place to discover the best of the best in the industry. Whether you’re just beginning to think about your wedding\, or you have a date and venue set already\, the Nonantum Wedding Show is a special day to get excited about the planning process and align with the vendors who will make your vision come to life.\n\nWe bring professionals together under one roof so that you can taste the cakes\, touch the linens\, see the invitations\, smell the flowers\, and hear the music that you want to have for your special day.\n\nEnjoy hors d’oeuvres\, grab a cocktail or glass of wine\, and get inspired!\n\n*General Admission: Attendance is free but pre-registration is required.\n\nPlease visit Eventbrite to register: https://www.eventbrite.com/…/autumn-wedding-show…\n\n*The Nonantum Autumn Wedding Show offers an incredible opportunity to meet with Wedding Professionals of all facets to plan your dream wedding.*
URL:https://bluedahliawoodenflorals.com/event/bridal-show-nonantum-resort-in-kennebunk-me/
LOCATION:Nonantum Resort\, 95 Ocean Avenue\, Kennebunkport\, ME\, 04046\, United States
ATTACH;FMTTYPE=image/jpeg:https://bluedahliawoodenflorals.com/wp-content/uploads/2023/10/373573322_690855139727365_8142789454570826299_n-1.jpg
END:VEVENT
END:VCALENDAR