BEGIN:VCALENDAR
VERSION:2.0
PRODID:-//Blue Dahlia Wooden Florals - ECPv6.15.20//NONSGML v1.0//EN
CALSCALE:GREGORIAN
METHOD:PUBLISH
X-ORIGINAL-URL:https://bluedahliawoodenflorals.com
X-WR-CALDESC:Events for Blue Dahlia Wooden Florals
REFRESH-INTERVAL;VALUE=DURATION:PT1H
X-Robots-Tag:noindex
X-PUBLISHED-TTL:PT1H
BEGIN:VTIMEZONE
TZID:UTC
BEGIN:STANDARD
TZOFFSETFROM:+0000
TZOFFSETTO:+0000
TZNAME:UTC
DTSTART:20240101T000000
END:STANDARD
END:VTIMEZONE
BEGIN:VEVENT
DTSTART;TZID=UTC:20250328T180000
DTEND;TZID=UTC:20250328T200000
DTSTAMP:20260420T113302
CREATED:20250219T202738Z
LAST-MODIFIED:20250219T202738Z
UID:8348-1743184800-1743192000@bluedahliawoodenflorals.com
SUMMARY:Paint Your Own Jewelry Dish & Make Your Own Crystal Bracelet
DESCRIPTION:Crystal Beaded Bracelets & Ceramic Trinket Dish Workshop \nJoin us for a creative and relaxing workshop where you’ll design your own crystal beaded bracelets and paint a ceramic trinket dish to match! \n\nFirst half of the class\, you’ll paint a ceramic trinket dish to complement your new jewelry. Choose your colors and designs to create a special place to store your handmade pieces. Dishes will be glazed and ready to take home the night of the event. \n\nSecond half of class\, Katie from Blue Dahlia will guide you through the process of creating two unique bracelets using a variety of beautiful crystals such as amethyst\, rose quartz\, amazonite\, jade\, jasper\, and more. Whether you choose crystals for their meaning or simply for their beauty\, you’ll be able to personalize your bracelets with spacers and charms for a truly one-of-a-kind piece. \n\nNo experience is necessary—just bring your creativity and enjoy a fun\, hands-on experience! All materials are included. \n\nBYOB is ok.
URL:https://bluedahliawoodenflorals.com/event/paint-your-own-jewelry-dish-make-your-own-crystal-bracelet/
LOCATION:The Creative Soul\, 2 Christensen Lane\, Kennebunk\, ME\, 04043\, United States
CATEGORIES:DIY Workshop
END:VEVENT
END:VCALENDAR