BEGIN:VCALENDAR
VERSION:2.0
PRODID:-//Blue Dahlia Wooden Florals - ECPv6.15.20//NONSGML v1.0//EN
CALSCALE:GREGORIAN
METHOD:PUBLISH
X-WR-CALNAME:Blue Dahlia Wooden Florals
X-ORIGINAL-URL:https://bluedahliawoodenflorals.com
X-WR-CALDESC:Events for Blue Dahlia Wooden Florals
REFRESH-INTERVAL;VALUE=DURATION:PT1H
X-Robots-Tag:noindex
X-PUBLISHED-TTL:PT1H
BEGIN:VTIMEZONE
TZID:UTC
BEGIN:STANDARD
TZOFFSETFROM:+0000
TZOFFSETTO:+0000
TZNAME:UTC
DTSTART:20220101T000000
END:STANDARD
END:VTIMEZONE
BEGIN:VEVENT
DTSTART;TZID=UTC:20230506T100000
DTEND;TZID=UTC:20230506T160000
DTSTAMP:20260419T222911
CREATED:20230317T204229Z
LAST-MODIFIED:20230324T210752Z
UID:5687-1683367200-1683388800@bluedahliawoodenflorals.com
SUMMARY:Makers on Main in Freeport\, ME
DESCRIPTION:
URL:https://bluedahliawoodenflorals.com/event/makers-on-main-in-freeport-me/
LOCATION:Makers on Main – Freeport\, Main St.\, Freeport\, ME\, 04032\, United States
ATTACH;FMTTYPE=image/jpeg:https://bluedahliawoodenflorals.com/wp-content/uploads/2023/03/Makers-on-Main-banner-_-no-sponsors-2400x1223-1.jpg
END:VEVENT
BEGIN:VEVENT
DTSTART;VALUE=DATE:20230507
DTEND;VALUE=DATE:20230508
DTSTAMP:20260419T222911
CREATED:20230411T175545Z
LAST-MODIFIED:20230411T175545Z
UID:5855-1683417600-1683503999@bluedahliawoodenflorals.com
SUMMARY:Private Event
DESCRIPTION:
URL:https://bluedahliawoodenflorals.com/event/private-event/
END:VEVENT
BEGIN:VEVENT
DTSTART;TZID=UTC:20230514T100000
DTEND;TZID=UTC:20230514T150000
DTSTAMP:20260419T222911
CREATED:20230317T204253Z
LAST-MODIFIED:20230509T201557Z
UID:5689-1684058400-1684076400@bluedahliawoodenflorals.com
SUMMARY:Maker's Market at Thompson's Point
DESCRIPTION:The Maker’s Market is an ode to local Maine artisans\, craftspeople\, artists\, creators and farmers. It combines the best that Maine has to offer\, a spirit of ingenuity and a deeply imbedded culture of community and togetherness. \nOh\, did we mention there’s a bar? Grab your friends\, snag a mimosa\, and get your holiday shopping done early and often! \nEntry\, free!
URL:https://bluedahliawoodenflorals.com/event/makers-market-thompsons-point/
LOCATION:Maker’s Marker at Thompsons Point\, 207 Thompson’s Point Road\, Portland\, ME\, 04102\, United States
ATTACH;FMTTYPE=image/png:https://bluedahliawoodenflorals.com/wp-content/uploads/2023/03/Makers-Market.png
END:VEVENT
END:VCALENDAR