BEGIN:VCALENDAR
VERSION:2.0
PRODID:-//Blue Dahlia Wooden Florals - ECPv6.15.20//NONSGML v1.0//EN
CALSCALE:GREGORIAN
METHOD:PUBLISH
X-ORIGINAL-URL:https://bluedahliawoodenflorals.com
X-WR-CALDESC:Events for Blue Dahlia Wooden Florals
REFRESH-INTERVAL;VALUE=DURATION:PT1H
X-Robots-Tag:noindex
X-PUBLISHED-TTL:PT1H
BEGIN:VTIMEZONE
TZID:UTC
BEGIN:STANDARD
TZOFFSETFROM:+0000
TZOFFSETTO:+0000
TZNAME:UTC
DTSTART:20220101T000000
END:STANDARD
END:VTIMEZONE
BEGIN:VEVENT
DTSTART;TZID=UTC:20230805T100000
DTEND;TZID=UTC:20230805T160000
DTSTAMP:20260419T174927
CREATED:20230317T204446Z
LAST-MODIFIED:20230324T211055Z
UID:5697-1691229600-1691251200@bluedahliawoodenflorals.com
SUMMARY:Makers on Main in Freeport\, ME
DESCRIPTION:
URL:https://bluedahliawoodenflorals.com/event/makers-on-main-in-freeport-me-3/
LOCATION:Makers on Main – Freeport\, Main St.\, Freeport\, ME\, 04032\, United States
ATTACH;FMTTYPE=image/jpeg:https://bluedahliawoodenflorals.com/wp-content/uploads/2023/03/Makers-on-Main-banner-_-no-sponsors-2400x1223-1.jpg
END:VEVENT
END:VCALENDAR