BEGIN:VCALENDAR
VERSION:2.0
PRODID:-//Blue Dahlia Wooden Florals - ECPv6.15.20//NONSGML v1.0//EN
CALSCALE:GREGORIAN
METHOD:PUBLISH
X-ORIGINAL-URL:https://bluedahliawoodenflorals.com
X-WR-CALDESC:Events for Blue Dahlia Wooden Florals
REFRESH-INTERVAL;VALUE=DURATION:PT1H
X-Robots-Tag:noindex
X-PUBLISHED-TTL:PT1H
BEGIN:VTIMEZONE
TZID:UTC
BEGIN:STANDARD
TZOFFSETFROM:+0000
TZOFFSETTO:+0000
TZNAME:UTC
DTSTART:20220101T000000
END:STANDARD
END:VTIMEZONE
BEGIN:VEVENT
DTSTART;TZID=UTC:20231006T120000
DTEND;TZID=UTC:20231006T180000
DTSTAMP:20260419T143617
CREATED:20230411T174001Z
LAST-MODIFIED:20230411T174422Z
UID:5846-1696593600-1696615200@bluedahliawoodenflorals.com
SUMMARY:Freeport Fall Festival
DESCRIPTION:Each year on the first weekend in October\, Visit Freeport brings together over 175 of the best New England artists\, makers and local food producers for a three-day festival on the L.L.Bean campus\, Key Bank lawn\, and Freeport Village Station courtyard in Freeport\, Maine.\n\nIn addition to browsing local art\, join us at the Discovery Stage on the L.L.Bean campus for three days of live music. There are also plenty of free activities for kids from make ‘n take crafts\, to scavenger hunts and more. And\, thanks to our generous sponsors\, it’s all FREE!
URL:https://bluedahliawoodenflorals.com/event/freeport-fall-festival/
LOCATION:Freeport Fall Festival\, 95 Main St.\, Freeport\, ME\, 04032\, United States
ATTACH;FMTTYPE=image/png:https://bluedahliawoodenflorals.com/wp-content/uploads/2023/04/Freeport-Fall-Fest.png
END:VEVENT
BEGIN:VEVENT
DTSTART;TZID=UTC:20231007T100000
DTEND;TZID=UTC:20231007T180000
DTSTAMP:20260419T143617
CREATED:20230411T174516Z
LAST-MODIFIED:20230411T174516Z
UID:5851-1696672800-1696701600@bluedahliawoodenflorals.com
SUMMARY:Freeport Fall Festival
DESCRIPTION:Each year on the first weekend in October\, Visit Freeport brings together over 175 of the best New England artists\, makers and local food producers for a three-day festival on the L.L.Bean campus\, Key Bank lawn\, and Freeport Village Station courtyard in Freeport\, Maine.\n\nIn addition to browsing local art\, join us at the Discovery Stage on the L.L.Bean campus for three days of live music. There are also plenty of free activities for kids from make ‘n take crafts\, to scavenger hunts and more. And\, thanks to our generous sponsors\, it’s all FREE!
URL:https://bluedahliawoodenflorals.com/event/freeport-fall-festival-2/
LOCATION:Freeport Fall Festival\, 95 Main St.\, Freeport\, ME\, 04032\, United States
ATTACH;FMTTYPE=image/png:https://bluedahliawoodenflorals.com/wp-content/uploads/2023/04/Freeport-Fall-Fest.png
END:VEVENT
BEGIN:VEVENT
DTSTART;TZID=UTC:20231008T100000
DTEND;TZID=UTC:20231008T160000
DTSTAMP:20260419T143617
CREATED:20230411T174548Z
LAST-MODIFIED:20230411T174548Z
UID:5853-1696759200-1696780800@bluedahliawoodenflorals.com
SUMMARY:Freeport Fall Festival
DESCRIPTION:Each year on the first weekend in October\, Visit Freeport brings together over 175 of the best New England artists\, makers and local food producers for a three-day festival on the L.L.Bean campus\, Key Bank lawn\, and Freeport Village Station courtyard in Freeport\, Maine.\n\nIn addition to browsing local art\, join us at the Discovery Stage on the L.L.Bean campus for three days of live music. There are also plenty of free activities for kids from make ‘n take crafts\, to scavenger hunts and more. And\, thanks to our generous sponsors\, it’s all FREE!
URL:https://bluedahliawoodenflorals.com/event/freeport-fall-festival-2-2/
LOCATION:Freeport Fall Festival\, 95 Main St.\, Freeport\, ME\, 04032\, United States
ATTACH;FMTTYPE=image/png:https://bluedahliawoodenflorals.com/wp-content/uploads/2023/04/Freeport-Fall-Fest.png
END:VEVENT
BEGIN:VEVENT
DTSTART;TZID=UTC:20231021T140000
DTEND;TZID=UTC:20231021T160000
DTSTAMP:20260419T143617
CREATED:20231013T163819Z
LAST-MODIFIED:20231013T164242Z
UID:6674-1697896800-1697904000@bluedahliawoodenflorals.com
SUMMARY:Fall Centerpiece Make and Take at Elliott Nutrition
DESCRIPTION:Blue Dahlia is partnering with Elliott Nutrition in Windham\, ME to host a Wood Flower Make and Take on October 21\, 2023 from 2 – 4pm. \nDuring this event\, you’ll fill a small (3” x 3” x 3”) wood box with fall themed wood flowers and coordinating accents and greenery.  You also have the choice to leave the box in it’s raw wood state or painted white or dark brown. \nThe flowers being painted for this event are inspired by fall color palettes.  You have the choice of a softer fall color palette or a more bold color palette\, please choose your desired color palette during checkout so we are painting the right amount of flowers!  We’ll also be brining unpainted ivory and bark flowers for you to incorporate should you choose.  How you use each color palette is completely up to you\, get as creative as you’d like! \nKatie\, from Blue Dahlia will be on hand to give a tutorial and any design assistance that you request and will help as needed. \nElliot Nutrition will also be running specials for those participating in the event. \nThis is a ticketed event that is limited to 20 participants\, so get your tickets early! \nPURCHASE TICKETS \n*Please note that events are not eligible for coupons\, but ARE eligible for gift cards!
URL:https://bluedahliawoodenflorals.com/event/fall-centerpiece-make-and-take-at-elliott-nutrition/
LOCATION:Elliott Nutrition\, 765 Roosevelt Trail #8\, Windham\, ME\, 04062\, United States
ATTACH;FMTTYPE=image/png:https://bluedahliawoodenflorals.com/wp-content/uploads/2023/09/Black-Pink-Minimalist-Skincare-Beauty-Photo-Collage-Facebook-Post.png
END:VEVENT
BEGIN:VEVENT
DTSTART;TZID=UTC:20231022T100000
DTEND;TZID=UTC:20231022T150000
DTSTAMP:20260419T143617
CREATED:20231013T165201Z
LAST-MODIFIED:20231013T165201Z
UID:6679-1697968800-1697986800@bluedahliawoodenflorals.com
SUMMARY:Maker's Market at Thompson's Point
DESCRIPTION:The Maker’s Market is an ode to local Maine artisans\, craftspeople\, artists\, creators and farmers. It combines the best that Maine has to offer\, a spirit of ingenuity and a deeply imbedded culture of community and togetherness. \nOh\, did we mention there’s a bar? Grab your friends\, snag a mimosa\, and get your holiday shopping done early and often! \nEntry\, free!
URL:https://bluedahliawoodenflorals.com/event/makers-market-at-thompsons-point/
LOCATION:Maker’s Marker at Thompsons Point\, 207 Thompson’s Point Road\, Portland\, ME\, 04102\, United States
ATTACH;FMTTYPE=image/jpeg:https://bluedahliawoodenflorals.com/wp-content/uploads/2023/10/Makers-Market-10.22.jpg
END:VEVENT
END:VCALENDAR